BEGIN:VCALENDAR
VERSION:2.0
PRODID:-//Duluth Back Country Horsemen of MN - ECPv6.15.20//NONSGML v1.0//EN
CALSCALE:GREGORIAN
METHOD:PUBLISH
X-WR-CALNAME:Duluth Back Country Horsemen of MN
X-ORIGINAL-URL:https://www.duluthhorsetrails.org
X-WR-CALDESC:Events for Duluth Back Country Horsemen of MN
REFRESH-INTERVAL;VALUE=DURATION:PT1H
X-Robots-Tag:noindex
X-PUBLISHED-TTL:PT1H
BEGIN:VTIMEZONE
TZID:America/Chicago
BEGIN:DAYLIGHT
TZOFFSETFROM:-0600
TZOFFSETTO:-0500
TZNAME:CDT
DTSTART:20250309T080000
END:DAYLIGHT
BEGIN:STANDARD
TZOFFSETFROM:-0500
TZOFFSETTO:-0600
TZNAME:CST
DTSTART:20251102T070000
END:STANDARD
BEGIN:DAYLIGHT
TZOFFSETFROM:-0600
TZOFFSETTO:-0500
TZNAME:CDT
DTSTART:20260308T080000
END:DAYLIGHT
BEGIN:STANDARD
TZOFFSETFROM:-0500
TZOFFSETTO:-0600
TZNAME:CST
DTSTART:20261101T070000
END:STANDARD
BEGIN:DAYLIGHT
TZOFFSETFROM:-0600
TZOFFSETTO:-0500
TZNAME:CDT
DTSTART:20270314T080000
END:DAYLIGHT
BEGIN:STANDARD
TZOFFSETFROM:-0500
TZOFFSETTO:-0600
TZNAME:CST
DTSTART:20271107T070000
END:STANDARD
END:VTIMEZONE
BEGIN:VEVENT
DTSTART;TZID=America/Chicago:20260505T180000
DTEND;TZID=America/Chicago:20260505T190000
DTSTAMP:20260422T090753
CREATED:20251201T195534Z
LAST-MODIFIED:20251212T195822Z
UID:1372-1778004000-1778007600@www.duluthhorsetrails.org
SUMMARY:Duluth BCH-MN Membership Meeting
DESCRIPTION:
URL:https://www.duluthhorsetrails.org/event/membership-meeting-2026-05/
LOCATION:Buffalo House\, 2590 Guss Road\, Duluth\, MN\, 55810\, United States
END:VEVENT
BEGIN:VEVENT
DTSTART;VALUE=DATE:20260509
DTEND;VALUE=DATE:20260511
DTSTAMP:20260422T090753
CREATED:20250219T215635Z
LAST-MODIFIED:20260319T152503Z
UID:1150-1778284800-1778457599@www.duluthhorsetrails.org
SUMMARY:Spring Tune-Up Sensory Clinic
DESCRIPTION:BCH Sensory Clinic Flyer 2026 (pdf)
URL:https://www.duluthhorsetrails.org/event/spring-tune-up-sensory-clinic/
LOCATION:Serenity Farms\, 1885 Connors Road\, Cloquet\, 55720\, United States
END:VEVENT
BEGIN:VEVENT
DTSTART;TZID=America/Chicago:20260707T180000
DTEND;TZID=America/Chicago:20260707T190000
DTSTAMP:20260422T090753
CREATED:20251201T195639Z
LAST-MODIFIED:20251212T195903Z
UID:1374-1783447200-1783450800@www.duluthhorsetrails.org
SUMMARY:Duluth BCH-MN Membership Meeting
DESCRIPTION:
URL:https://www.duluthhorsetrails.org/event/membership-meeting-2026-07/
LOCATION:Buffalo House\, 2590 Guss Road\, Duluth\, MN\, 55810\, United States
END:VEVENT
BEGIN:VEVENT
DTSTART;TZID=America/Chicago:20260901T180000
DTEND;TZID=America/Chicago:20260901T190000
DTSTAMP:20260422T090753
CREATED:20251201T195752Z
LAST-MODIFIED:20251212T195937Z
UID:1376-1788285600-1788289200@www.duluthhorsetrails.org
SUMMARY:Duluth BCH-MN Membership Meeting
DESCRIPTION:
URL:https://www.duluthhorsetrails.org/event/membership-meeting-2026-09/
LOCATION:Buffalo House\, 2590 Guss Road\, Duluth\, MN\, 55810\, United States
END:VEVENT
BEGIN:VEVENT
DTSTART;TZID=America/Chicago:20261110T180000
DTEND;TZID=America/Chicago:20261110T190000
DTSTAMP:20260422T090753
CREATED:20251201T195919Z
LAST-MODIFIED:20251212T200017Z
UID:1378-1794333600-1794337200@www.duluthhorsetrails.org
SUMMARY:Duluth BCH-MN Membership Meeting
DESCRIPTION:
URL:https://www.duluthhorsetrails.org/event/membership-meeting-2026-11/
LOCATION:Buffalo House\, 2590 Guss Road\, Duluth\, MN\, 55810\, United States
END:VEVENT
END:VCALENDAR